BEGIN:VCALENDAR
VERSION:2.0
PRODID:-//saudi-signageexpo.bitkit.dk//NONSGML Saudi Signage Expo//EN
METHOD:REQUEST
BEGIN:VEVENT
UID:20260421T165916-677596928-calendar_event
DTSTAMP:20260421T165916Z
DTSTART:20240129T160000
DTEND:20240131T220000
LOCATION:Riyadh International Convention and Exhibition Centre (RICEC)
SUMMARY:Saudi Signage Expo
DESCRIPTION:Attracting the most senior decision makers in the industry, and the top manufactures and suppliers of digital and print signage and graphics, Saudi Signage Expo will be the industry’s most important business event in the Middle East. It will be a much-anticipated print, digital signage and visual communication stage to meet the right people, at the right time, in the right place.
BEGIN:VALARM
TRIGGER:PT1W
ACTION:DISPLAY
DESCRIPTION:Reminder
END:VALARM
END:VEVENT
END:VCALENDAR
